BEGIN:VCALENDAR
VERSION:2.0
PRODID:-//MM Tec Travel - ECPv6.15.20//NONSGML v1.0//EN
CALSCALE:GREGORIAN
METHOD:PUBLISH
X-WR-CALNAME:MM Tec Travel
X-ORIGINAL-URL:https://mm-tec-travel.eu
X-WR-CALDESC:Veranstaltungen für MM Tec Travel
REFRESH-INTERVAL;VALUE=DURATION:PT1H
X-Robots-Tag:noindex
X-PUBLISHED-TTL:PT1H
BEGIN:VTIMEZONE
TZID:Europe/Berlin
BEGIN:DAYLIGHT
TZOFFSETFROM:+0100
TZOFFSETTO:+0200
TZNAME:CEST
DTSTART:20250330T010000
END:DAYLIGHT
BEGIN:STANDARD
TZOFFSETFROM:+0200
TZOFFSETTO:+0100
TZNAME:CET
DTSTART:20251026T010000
END:STANDARD
BEGIN:DAYLIGHT
TZOFFSETFROM:+0100
TZOFFSETTO:+0200
TZNAME:CEST
DTSTART:20260329T010000
END:DAYLIGHT
BEGIN:STANDARD
TZOFFSETFROM:+0200
TZOFFSETTO:+0100
TZNAME:CET
DTSTART:20261025T010000
END:STANDARD
BEGIN:DAYLIGHT
TZOFFSETFROM:+0100
TZOFFSETTO:+0200
TZNAME:CEST
DTSTART:20270328T010000
END:DAYLIGHT
BEGIN:STANDARD
TZOFFSETFROM:+0200
TZOFFSETTO:+0100
TZNAME:CET
DTSTART:20271031T010000
END:STANDARD
END:VTIMEZONE
BEGIN:VEVENT
DTSTART;TZID=Europe/Berlin:20260424T080000
DTEND;TZID=Europe/Berlin:20260426T170000
DTSTAMP:20260423T115250
CREATED:20260106T071619Z
LAST-MODIFIED:20260218T041654Z
UID:19552-1777017600-1777222800@mm-tec-travel.eu
SUMMARY:SDI DPV Diver Kurs (Unterwasserscooter) + optionales technisches Add-on (TDI)
DESCRIPTION:Der Kurs wird auf Polnisch  und Deutsch  durchgeführt.\n\nKurs prowadzony jest w języku polskim  oraz niemieckim .\n\n Polski\n\nZapraszamy na intensywny blok treningowy przygotowujący do kursuCavern / Intro to Cave. \nTo trening zapoznawczy\, podczas którego sprawdzisz\, czy jesteś gotowy na kurs jaskiniowy.Jest to uporządkowany trening z naciskiem na bezpieczeństwo\,pracę zespołową i czystą technikę. \nPodczas zajęć ocenimy Twoje aktualne umiejętności w praktyce i wspólnie sprawdzimy\,nad czym warto jeszcze popracować przed rozpoczęciem pełnego kursu.To doskonała okazja\, aby spokojnie wejść w świat nurkowania w środowisku overheadi przekonać się\, czy ten kierunek jest dla Ciebie. \n\n\nProgram kursu\nTDI Cavern Diver + TDI Intro to Cave (OC) \nSzkolenie odbywa się w konfiguracji OC (Open Circuit) —sidemount lub backmount. \nMożesz zrealizować oba kursy albo wybrać tylko jeden: \n\nTDI Cavern Diver\nTDI Intro to Cave Diver\n\n\n\nCo będziemy robić podczas kursu\n\nbriefingi\, procedury bezpieczeństwa\, team-checki\, konfiguracja i planowanie gazu\,\npraca na linie: tie-offy (primary/secondary)\, poprawne prowadzenie liny\, podstawy nawigacji\,\ntechnika jaskiniowa: trym\, pływalność\, techniki płetwowe bez wzbijania mułu\,\nkomunikacja i ćwiczenia zespołowe (sygnały świetlne i ręczne\, pozycjonowanie w zespole)\,\nćwiczenia awaryjne: gas-sharing\, lost line / lost buddy\, rozwiązywanie problemów.\n\n\n\nTrening zapoznawczy — sprawdzenie umiejętności\nTen trening ma na celu sprawdzenie Twojej gotowości do kursu oraz ocenę\,czy dobrze odnajdujesz się w środowisku wymagającym większej precyzji\,kontroli i świadomości zespołowej. \nSprawdzamy przede wszystkim: \n\ntrym i pływalność\,\ntechnikę płetwową\,\nkontrolę sprzętu i konfiguracji\,\npracę w zespole i komunikację\,\nkomfort i opanowanie w wodzie.\n\nNie jest to egzamin\, ale rzetelna ocena Twoich umiejętności i wskazanie elementów\,które warto poprawić przed rozpoczęciem właściwego szkolenia. \n\n\nMinimalne wymagania\n\nminimum 50 nurkowań udokumentowanych w logbooku\,\nkonfiguracji twinset / backmount lub sidemount (OC)\,\nsuchego skafandra — obowiązkowo\,\ndobrego trymu i stabilnej pływalności.\n\n\n\nNie masz pewności\, czy Twój poziom jest wystarczający?\nNajpierw zrób kurs przygotowawczy. \n\nsprawdzić się bez dużych kosztów\,\npoprawić najważniejsze elementy\,\nnabrać większej pewności siebie\,\na dopiero potem zdecydować\, czy chcesz kontynuować szkolenie.\n\nJeśli po treningu zdecydujesz się na udział w kursie\, koszt treningu przygotowawczegozostanie odliczony od całkowitej ceny kursu. \nZapraszamy na trening zapoznawczy i kurs przygotowawczy Cavern / Intro to Cave! \n\n \n Deutsch\n\nWir laden dich zu einem intensiven Trainingsblock zur Vorbereitung auf denCavern- / Intro-to-Cave-Kurs ein. \nDieses Training ist ein Kennenlern- und Vorbereitungstraining\, bei dem du prüfen kannst\,ob du für einen Höhlenkurs bereit bist. Es ist ein strukturiertes Training mit dem Fokus aufSicherheit\, Teamarbeit und saubere Technik. \nWährend des Trainings bewerten wir deine aktuellen Fähigkeiten in der Praxis und schauen gemeinsam\,woran du vor dem eigentlichen Kurs noch arbeiten solltest. Es ist eine ideale Möglichkeit\,in Ruhe in die Welt des Tauchens im Overhead-Umfeld einzusteigen und herauszufinden\,ob dieser Weg zu dir passt. \n\n\nKursprogramm\nTDI Cavern Diver + TDI Intro to Cave (OC) \nDie Ausbildung findet in der Konfiguration OC (Open Circuit) statt —Sidemount oder Backmount. \nDu kannst beide Kurse absolvieren oder nur einen wählen: \n\nTDI Cavern Diver\nTDI Intro to Cave Diver\n\n\n\nWas wir im Kurs machen\n\nBriefings\, Sicherheitsprozeduren\, Team-Checks\, Konfiguration und Gasplanung\,\nLeinenarbeit: Tie-Offs (Primary/Secondary)\, korrektes Verlegen der Leine\, Grundlagen der Navigation\,\nHöhlentechnik: Trim\, Tarierung\, Flossentechniken ohne Sediment aufzuwirbeln\,\nKommunikation und Teamübungen (Licht- und Handzeichen\, Positionierung im Team)\,\nNotfallübungen: Gas-Sharing\, Lost Line / Lost Buddy\, Problemlösungen.\n\n\n\nKennenlerntraining — Überprüfung deiner Fähigkeiten\nDieses Training dient dazu\, deine Bereitschaft für den Kurs einzuschätzen und zu prüfen\,ob du dich in einer Umgebung wohlfühlst\, die mehr Präzision\, Kontrolle und Team-Bewusstsein erfordert. \nWir achten besonders auf: \n\nTrim und Tarierung\,\nFlossentechnik\,\nKontrolle über Ausrüstung und Konfiguration\,\nTeamarbeit und Kommunikation\,\nKomfort und Ruhe im Wasser.\n\nEs ist keine Prüfung\, sondern eine ehrliche Einschätzung deiner Fähigkeiten und ein Hinweis darauf\,welche Punkte du vor dem eigentlichen Kurs noch verbessern solltest. \n\n\nMindestanforderungen\n\nmindestens 50 geloggte Tauchgänge\,\neine Twinset-/Backmount- oder Sidemount-Konfiguration (OC)\,\neinen Trockentauchanzug — obligatorisch\,\nguten Trim und stabile Tarierung.\n\n\n\nDu bist nicht sicher\, ob dein Level ausreicht?\nDann mach zuerst ein Vorbereitungstraining. \n\ndich ohne hohe Kosten auszuprobieren\,\ndie wichtigsten Grundlagen zu verbessern\,\nmehr Sicherheit zu gewinnen\,\nund erst danach zu entscheiden\, ob du mit dem Kurs weitermachen möchtest.\n\nWenn du nach dem Training am Kurs teilnimmst\, wird der Preis des Vorbereitungstrainingsvom Gesamtpreis des Kurses abgezogen. \nWir laden dich herzlich zum Kennenlerntraining und Vorbereitungskurs Cavern / Intro to Cave ein!
URL:https://mm-tec-travel.eu/booking/sdi-dpv-diver-kurs-unterwasserscooter/
LOCATION:Goldberger See\, Salvatorhof\, Dormagen\, 41542\, Germany
CATEGORIES:SDI
ORGANIZER;CN="MM-Tec-Travel.eu":MAILTO:info@mm-tec-travel.eu
END:VEVENT
BEGIN:VEVENT
DTSTART;VALUE=DATE:20260425
DTEND;VALUE=DATE:20260427
DTSTAMP:20260423T115250
CREATED:20260106T074356Z
LAST-MODIFIED:20260222T185117Z
UID:19558-1777075200-1777247999@mm-tec-travel.eu
SUMMARY:Technisches Add-on „TDI Technical DPV“ (Technische Verfahren)
DESCRIPTION:Der Kurs wird auf Polnisch  und Deutsch  durchgeführt.\n\nKurs prowadzony jest w języku polskim  oraz niemieckim .\n\n Polski\n\nZapraszamy na intensywny blok treningowy przygotowujący do kursuCavern / Intro to Cave. \nTo trening zapoznawczy\, podczas którego sprawdzisz\, czy jesteś gotowy na kurs jaskiniowy.Jest to uporządkowany trening z naciskiem na bezpieczeństwo\,pracę zespołową i czystą technikę. \nPodczas zajęć ocenimy Twoje aktualne umiejętności w praktyce i wspólnie sprawdzimy\,nad czym warto jeszcze popracować przed rozpoczęciem pełnego kursu.To doskonała okazja\, aby spokojnie wejść w świat nurkowania w środowisku overheadi przekonać się\, czy ten kierunek jest dla Ciebie. \n\n\nProgram kursu\nTDI Cavern Diver + TDI Intro to Cave (OC) \nSzkolenie odbywa się w konfiguracji OC (Open Circuit) —sidemount lub backmount. \nMożesz zrealizować oba kursy albo wybrać tylko jeden: \n\nTDI Cavern Diver\nTDI Intro to Cave Diver\n\n\n\nCo będziemy robić podczas kursu\n\nbriefingi\, procedury bezpieczeństwa\, team-checki\, konfiguracja i planowanie gazu\,\npraca na linie: tie-offy (primary/secondary)\, poprawne prowadzenie liny\, podstawy nawigacji\,\ntechnika jaskiniowa: trym\, pływalność\, techniki płetwowe bez wzbijania mułu\,\nkomunikacja i ćwiczenia zespołowe (sygnały świetlne i ręczne\, pozycjonowanie w zespole)\,\nćwiczenia awaryjne: gas-sharing\, lost line / lost buddy\, rozwiązywanie problemów.\n\n\n\nTrening zapoznawczy — sprawdzenie umiejętności\nTen trening ma na celu sprawdzenie Twojej gotowości do kursu oraz ocenę\,czy dobrze odnajdujesz się w środowisku wymagającym większej precyzji\,kontroli i świadomości zespołowej. \nSprawdzamy przede wszystkim: \n\ntrym i pływalność\,\ntechnikę płetwową\,\nkontrolę sprzętu i konfiguracji\,\npracę w zespole i komunikację\,\nkomfort i opanowanie w wodzie.\n\nNie jest to egzamin\, ale rzetelna ocena Twoich umiejętności i wskazanie elementów\,które warto poprawić przed rozpoczęciem właściwego szkolenia. \n\n\nMinimalne wymagania\n\nminimum 50 nurkowań udokumentowanych w logbooku\,\nkonfiguracji twinset / backmount lub sidemount (OC)\,\nsuchego skafandra — obowiązkowo\,\ndobrego trymu i stabilnej pływalności.\n\n\n\nNie masz pewności\, czy Twój poziom jest wystarczający?\nNajpierw zrób kurs przygotowawczy. \n\nsprawdzić się bez dużych kosztów\,\npoprawić najważniejsze elementy\,\nnabrać większej pewności siebie\,\na dopiero potem zdecydować\, czy chcesz kontynuować szkolenie.\n\nJeśli po treningu zdecydujesz się na udział w kursie\, koszt treningu przygotowawczegozostanie odliczony od całkowitej ceny kursu. \nZapraszamy na trening zapoznawczy i kurs przygotowawczy Cavern / Intro to Cave! \n\n \n Deutsch\n\nWir laden dich zu einem intensiven Trainingsblock zur Vorbereitung auf denCavern- / Intro-to-Cave-Kurs ein. \nDieses Training ist ein Kennenlern- und Vorbereitungstraining\, bei dem du prüfen kannst\,ob du für einen Höhlenkurs bereit bist. Es ist ein strukturiertes Training mit dem Fokus aufSicherheit\, Teamarbeit und saubere Technik. \nWährend des Trainings bewerten wir deine aktuellen Fähigkeiten in der Praxis und schauen gemeinsam\,woran du vor dem eigentlichen Kurs noch arbeiten solltest. Es ist eine ideale Möglichkeit\,in Ruhe in die Welt des Tauchens im Overhead-Umfeld einzusteigen und herauszufinden\,ob dieser Weg zu dir passt. \n\n\nKursprogramm\nTDI Cavern Diver + TDI Intro to Cave (OC) \nDie Ausbildung findet in der Konfiguration OC (Open Circuit) statt —Sidemount oder Backmount. \nDu kannst beide Kurse absolvieren oder nur einen wählen: \n\nTDI Cavern Diver\nTDI Intro to Cave Diver\n\n\n\nWas wir im Kurs machen\n\nBriefings\, Sicherheitsprozeduren\, Team-Checks\, Konfiguration und Gasplanung\,\nLeinenarbeit: Tie-Offs (Primary/Secondary)\, korrektes Verlegen der Leine\, Grundlagen der Navigation\,\nHöhlentechnik: Trim\, Tarierung\, Flossentechniken ohne Sediment aufzuwirbeln\,\nKommunikation und Teamübungen (Licht- und Handzeichen\, Positionierung im Team)\,\nNotfallübungen: Gas-Sharing\, Lost Line / Lost Buddy\, Problemlösungen.\n\n\n\nKennenlerntraining — Überprüfung deiner Fähigkeiten\nDieses Training dient dazu\, deine Bereitschaft für den Kurs einzuschätzen und zu prüfen\,ob du dich in einer Umgebung wohlfühlst\, die mehr Präzision\, Kontrolle und Team-Bewusstsein erfordert. \nWir achten besonders auf: \n\nTrim und Tarierung\,\nFlossentechnik\,\nKontrolle über Ausrüstung und Konfiguration\,\nTeamarbeit und Kommunikation\,\nKomfort und Ruhe im Wasser.\n\nEs ist keine Prüfung\, sondern eine ehrliche Einschätzung deiner Fähigkeiten und ein Hinweis darauf\,welche Punkte du vor dem eigentlichen Kurs noch verbessern solltest. \n\n\nMindestanforderungen\n\nmindestens 50 geloggte Tauchgänge\,\neine Twinset-/Backmount- oder Sidemount-Konfiguration (OC)\,\neinen Trockentauchanzug — obligatorisch\,\nguten Trim und stabile Tarierung.\n\n\n\nDu bist nicht sicher\, ob dein Level ausreicht?\nDann mach zuerst ein Vorbereitungstraining. \n\ndich ohne hohe Kosten auszuprobieren\,\ndie wichtigsten Grundlagen zu verbessern\,\nmehr Sicherheit zu gewinnen\,\nund erst danach zu entscheiden\, ob du mit dem Kurs weitermachen möchtest.\n\nWenn du nach dem Training am Kurs teilnimmst\, wird der Preis des Vorbereitungstrainingsvom Gesamtpreis des Kurses abgezogen. \nWir laden dich herzlich zum Kennenlerntraining und Vorbereitungskurs Cavern / Intro to Cave ein!
URL:https://mm-tec-travel.eu/booking/technisches-add-on-tdi-technical-dpv-kurs/
LOCATION:Goldberger See\, Salvatorhof\, Dormagen\, 41542\, Germany
CATEGORIES:TDI
ATTACH;FMTTYPE=image/webp:https://mm-tec-travel.eu/wp-content/uploads/2024/11/235022866_361558469010513_6185090134515263485_n.webp
ORGANIZER;CN="MM-Tec-Travel.eu":MAILTO:info@mm-tec-travel.eu
END:VEVENT
BEGIN:VEVENT
DTSTART;TZID=Europe/Berlin:20260501T080000
DTEND;TZID=Europe/Berlin:20260501T170000
DTSTAMP:20260423T115250
CREATED:20260416T052524Z
LAST-MODIFIED:20260418T051457Z
UID:22900-1777622400-1777654800@mm-tec-travel.eu
SUMMARY:TDI Cavern & Intro to Cave Trening
DESCRIPTION:Der Kurs wird auf Polnisch  und Deutsch  durchgeführt.\n\nKurs prowadzony jest w języku polskim  oraz niemieckim .\n\n Polski\n\nZapraszamy na intensywny blok treningowy przygotowujący do kursuCavern / Intro to Cave. \nTo trening zapoznawczy\, podczas którego sprawdzisz\, czy jesteś gotowy na kurs jaskiniowy.Jest to uporządkowany trening z naciskiem na bezpieczeństwo\,pracę zespołową i czystą technikę. \nPodczas zajęć ocenimy Twoje aktualne umiejętności w praktyce i wspólnie sprawdzimy\,nad czym warto jeszcze popracować przed rozpoczęciem pełnego kursu.To doskonała okazja\, aby spokojnie wejść w świat nurkowania w środowisku overheadi przekonać się\, czy ten kierunek jest dla Ciebie. \n\n\nProgram kursu\nTDI Cavern Diver + TDI Intro to Cave (OC) \nSzkolenie odbywa się w konfiguracji OC (Open Circuit) —sidemount lub backmount. \nMożesz zrealizować oba kursy albo wybrać tylko jeden: \n\nTDI Cavern Diver\nTDI Intro to Cave Diver\n\n\n\nCo będziemy robić podczas kursu\n\nbriefingi\, procedury bezpieczeństwa\, team-checki\, konfiguracja i planowanie gazu\,\npraca na linie: tie-offy (primary/secondary)\, poprawne prowadzenie liny\, podstawy nawigacji\,\ntechnika jaskiniowa: trym\, pływalność\, techniki płetwowe bez wzbijania mułu\,\nkomunikacja i ćwiczenia zespołowe (sygnały świetlne i ręczne\, pozycjonowanie w zespole)\,\nćwiczenia awaryjne: gas-sharing\, lost line / lost buddy\, rozwiązywanie problemów.\n\n\n\nTrening zapoznawczy — sprawdzenie umiejętności\nTen trening ma na celu sprawdzenie Twojej gotowości do kursu oraz ocenę\,czy dobrze odnajdujesz się w środowisku wymagającym większej precyzji\,kontroli i świadomości zespołowej. \nSprawdzamy przede wszystkim: \n\ntrym i pływalność\,\ntechnikę płetwową\,\nkontrolę sprzętu i konfiguracji\,\npracę w zespole i komunikację\,\nkomfort i opanowanie w wodzie.\n\nNie jest to egzamin\, ale rzetelna ocena Twoich umiejętności i wskazanie elementów\,które warto poprawić przed rozpoczęciem właściwego szkolenia. \n\n\nMinimalne wymagania\n\nminimum 50 nurkowań udokumentowanych w logbooku\,\nkonfiguracji twinset / backmount lub sidemount (OC)\,\nsuchego skafandra — obowiązkowo\,\ndobrego trymu i stabilnej pływalności.\n\n\n\nNie masz pewności\, czy Twój poziom jest wystarczający?\nNajpierw zrób kurs przygotowawczy. \n\nsprawdzić się bez dużych kosztów\,\npoprawić najważniejsze elementy\,\nnabrać większej pewności siebie\,\na dopiero potem zdecydować\, czy chcesz kontynuować szkolenie.\n\nJeśli po treningu zdecydujesz się na udział w kursie\, koszt treningu przygotowawczegozostanie odliczony od całkowitej ceny kursu. \nZapraszamy na trening zapoznawczy i kurs przygotowawczy Cavern / Intro to Cave! \n\n \n Deutsch\n\nWir laden dich zu einem intensiven Trainingsblock zur Vorbereitung auf denCavern- / Intro-to-Cave-Kurs ein. \nDieses Training ist ein Kennenlern- und Vorbereitungstraining\, bei dem du prüfen kannst\,ob du für einen Höhlenkurs bereit bist. Es ist ein strukturiertes Training mit dem Fokus aufSicherheit\, Teamarbeit und saubere Technik. \nWährend des Trainings bewerten wir deine aktuellen Fähigkeiten in der Praxis und schauen gemeinsam\,woran du vor dem eigentlichen Kurs noch arbeiten solltest. Es ist eine ideale Möglichkeit\,in Ruhe in die Welt des Tauchens im Overhead-Umfeld einzusteigen und herauszufinden\,ob dieser Weg zu dir passt. \n\n\nKursprogramm\nTDI Cavern Diver + TDI Intro to Cave (OC) \nDie Ausbildung findet in der Konfiguration OC (Open Circuit) statt —Sidemount oder Backmount. \nDu kannst beide Kurse absolvieren oder nur einen wählen: \n\nTDI Cavern Diver\nTDI Intro to Cave Diver\n\n\n\nWas wir im Kurs machen\n\nBriefings\, Sicherheitsprozeduren\, Team-Checks\, Konfiguration und Gasplanung\,\nLeinenarbeit: Tie-Offs (Primary/Secondary)\, korrektes Verlegen der Leine\, Grundlagen der Navigation\,\nHöhlentechnik: Trim\, Tarierung\, Flossentechniken ohne Sediment aufzuwirbeln\,\nKommunikation und Teamübungen (Licht- und Handzeichen\, Positionierung im Team)\,\nNotfallübungen: Gas-Sharing\, Lost Line / Lost Buddy\, Problemlösungen.\n\n\n\nKennenlerntraining — Überprüfung deiner Fähigkeiten\nDieses Training dient dazu\, deine Bereitschaft für den Kurs einzuschätzen und zu prüfen\,ob du dich in einer Umgebung wohlfühlst\, die mehr Präzision\, Kontrolle und Team-Bewusstsein erfordert. \nWir achten besonders auf: \n\nTrim und Tarierung\,\nFlossentechnik\,\nKontrolle über Ausrüstung und Konfiguration\,\nTeamarbeit und Kommunikation\,\nKomfort und Ruhe im Wasser.\n\nEs ist keine Prüfung\, sondern eine ehrliche Einschätzung deiner Fähigkeiten und ein Hinweis darauf\,welche Punkte du vor dem eigentlichen Kurs noch verbessern solltest. \n\n\nMindestanforderungen\n\nmindestens 50 geloggte Tauchgänge\,\neine Twinset-/Backmount- oder Sidemount-Konfiguration (OC)\,\neinen Trockentauchanzug — obligatorisch\,\nguten Trim und stabile Tarierung.\n\n\n\nDu bist nicht sicher\, ob dein Level ausreicht?\nDann mach zuerst ein Vorbereitungstraining. \n\ndich ohne hohe Kosten auszuprobieren\,\ndie wichtigsten Grundlagen zu verbessern\,\nmehr Sicherheit zu gewinnen\,\nund erst danach zu entscheiden\, ob du mit dem Kurs weitermachen möchtest.\n\nWenn du nach dem Training am Kurs teilnimmst\, wird der Preis des Vorbereitungstrainingsvom Gesamtpreis des Kurses abgezogen. \nWir laden dich herzlich zum Kennenlerntraining und Vorbereitungskurs Cavern / Intro to Cave ein!
URL:https://mm-tec-travel.eu/booking/tdi-cavern-intro-to-cave/
LOCATION:Goldberger See\, Salvatorhof\, Dormagen\, 41542\, Germany
ATTACH;FMTTYPE=image/png:https://mm-tec-travel.eu/wp-content/uploads/2026/02/ChatGPT-Image-17-lut-2026-16_53_57.png
ORGANIZER;CN="MM-Tec-Travel.eu":MAILTO:info@mm-tec-travel.eu
END:VEVENT
BEGIN:VEVENT
DTSTART;VALUE=DATE:20260514
DTEND;VALUE=DATE:20260518
DTSTAMP:20260423T115250
CREATED:20260218T121147Z
LAST-MODIFIED:20260222T184625Z
UID:21557-1778716800-1779062399@mm-tec-travel.eu
SUMMARY:OC Instructor- Mine Diving Kurs
DESCRIPTION:Der Kurs wird auf Polnisch  und Deutsch  durchgeführt.\n\nKurs prowadzony jest w języku polskim  oraz niemieckim .\n\n Polski\n\nZapraszamy na intensywny blok treningowy przygotowujący do kursuCavern / Intro to Cave. \nTo trening zapoznawczy\, podczas którego sprawdzisz\, czy jesteś gotowy na kurs jaskiniowy.Jest to uporządkowany trening z naciskiem na bezpieczeństwo\,pracę zespołową i czystą technikę. \nPodczas zajęć ocenimy Twoje aktualne umiejętności w praktyce i wspólnie sprawdzimy\,nad czym warto jeszcze popracować przed rozpoczęciem pełnego kursu.To doskonała okazja\, aby spokojnie wejść w świat nurkowania w środowisku overheadi przekonać się\, czy ten kierunek jest dla Ciebie. \n\n\nProgram kursu\nTDI Cavern Diver + TDI Intro to Cave (OC) \nSzkolenie odbywa się w konfiguracji OC (Open Circuit) —sidemount lub backmount. \nMożesz zrealizować oba kursy albo wybrać tylko jeden: \n\nTDI Cavern Diver\nTDI Intro to Cave Diver\n\n\n\nCo będziemy robić podczas kursu\n\nbriefingi\, procedury bezpieczeństwa\, team-checki\, konfiguracja i planowanie gazu\,\npraca na linie: tie-offy (primary/secondary)\, poprawne prowadzenie liny\, podstawy nawigacji\,\ntechnika jaskiniowa: trym\, pływalność\, techniki płetwowe bez wzbijania mułu\,\nkomunikacja i ćwiczenia zespołowe (sygnały świetlne i ręczne\, pozycjonowanie w zespole)\,\nćwiczenia awaryjne: gas-sharing\, lost line / lost buddy\, rozwiązywanie problemów.\n\n\n\nTrening zapoznawczy — sprawdzenie umiejętności\nTen trening ma na celu sprawdzenie Twojej gotowości do kursu oraz ocenę\,czy dobrze odnajdujesz się w środowisku wymagającym większej precyzji\,kontroli i świadomości zespołowej. \nSprawdzamy przede wszystkim: \n\ntrym i pływalność\,\ntechnikę płetwową\,\nkontrolę sprzętu i konfiguracji\,\npracę w zespole i komunikację\,\nkomfort i opanowanie w wodzie.\n\nNie jest to egzamin\, ale rzetelna ocena Twoich umiejętności i wskazanie elementów\,które warto poprawić przed rozpoczęciem właściwego szkolenia. \n\n\nMinimalne wymagania\n\nminimum 50 nurkowań udokumentowanych w logbooku\,\nkonfiguracji twinset / backmount lub sidemount (OC)\,\nsuchego skafandra — obowiązkowo\,\ndobrego trymu i stabilnej pływalności.\n\n\n\nNie masz pewności\, czy Twój poziom jest wystarczający?\nNajpierw zrób kurs przygotowawczy. \n\nsprawdzić się bez dużych kosztów\,\npoprawić najważniejsze elementy\,\nnabrać większej pewności siebie\,\na dopiero potem zdecydować\, czy chcesz kontynuować szkolenie.\n\nJeśli po treningu zdecydujesz się na udział w kursie\, koszt treningu przygotowawczegozostanie odliczony od całkowitej ceny kursu. \nZapraszamy na trening zapoznawczy i kurs przygotowawczy Cavern / Intro to Cave! \n\n \n Deutsch\n\nWir laden dich zu einem intensiven Trainingsblock zur Vorbereitung auf denCavern- / Intro-to-Cave-Kurs ein. \nDieses Training ist ein Kennenlern- und Vorbereitungstraining\, bei dem du prüfen kannst\,ob du für einen Höhlenkurs bereit bist. Es ist ein strukturiertes Training mit dem Fokus aufSicherheit\, Teamarbeit und saubere Technik. \nWährend des Trainings bewerten wir deine aktuellen Fähigkeiten in der Praxis und schauen gemeinsam\,woran du vor dem eigentlichen Kurs noch arbeiten solltest. Es ist eine ideale Möglichkeit\,in Ruhe in die Welt des Tauchens im Overhead-Umfeld einzusteigen und herauszufinden\,ob dieser Weg zu dir passt. \n\n\nKursprogramm\nTDI Cavern Diver + TDI Intro to Cave (OC) \nDie Ausbildung findet in der Konfiguration OC (Open Circuit) statt —Sidemount oder Backmount. \nDu kannst beide Kurse absolvieren oder nur einen wählen: \n\nTDI Cavern Diver\nTDI Intro to Cave Diver\n\n\n\nWas wir im Kurs machen\n\nBriefings\, Sicherheitsprozeduren\, Team-Checks\, Konfiguration und Gasplanung\,\nLeinenarbeit: Tie-Offs (Primary/Secondary)\, korrektes Verlegen der Leine\, Grundlagen der Navigation\,\nHöhlentechnik: Trim\, Tarierung\, Flossentechniken ohne Sediment aufzuwirbeln\,\nKommunikation und Teamübungen (Licht- und Handzeichen\, Positionierung im Team)\,\nNotfallübungen: Gas-Sharing\, Lost Line / Lost Buddy\, Problemlösungen.\n\n\n\nKennenlerntraining — Überprüfung deiner Fähigkeiten\nDieses Training dient dazu\, deine Bereitschaft für den Kurs einzuschätzen und zu prüfen\,ob du dich in einer Umgebung wohlfühlst\, die mehr Präzision\, Kontrolle und Team-Bewusstsein erfordert. \nWir achten besonders auf: \n\nTrim und Tarierung\,\nFlossentechnik\,\nKontrolle über Ausrüstung und Konfiguration\,\nTeamarbeit und Kommunikation\,\nKomfort und Ruhe im Wasser.\n\nEs ist keine Prüfung\, sondern eine ehrliche Einschätzung deiner Fähigkeiten und ein Hinweis darauf\,welche Punkte du vor dem eigentlichen Kurs noch verbessern solltest. \n\n\nMindestanforderungen\n\nmindestens 50 geloggte Tauchgänge\,\neine Twinset-/Backmount- oder Sidemount-Konfiguration (OC)\,\neinen Trockentauchanzug — obligatorisch\,\nguten Trim und stabile Tarierung.\n\n\n\nDu bist nicht sicher\, ob dein Level ausreicht?\nDann mach zuerst ein Vorbereitungstraining. \n\ndich ohne hohe Kosten auszuprobieren\,\ndie wichtigsten Grundlagen zu verbessern\,\nmehr Sicherheit zu gewinnen\,\nund erst danach zu entscheiden\, ob du mit dem Kurs weitermachen möchtest.\n\nWenn du nach dem Training am Kurs teilnimmst\, wird der Preis des Vorbereitungstrainingsvom Gesamtpreis des Kurses abgezogen. \nWir laden dich herzlich zum Kennenlerntraining und Vorbereitungskurs Cavern / Intro to Cave ein!
URL:https://mm-tec-travel.eu/booking/oc-instructor-mine-diving-kurs/
LOCATION:Bergwerk Nuttlar\, Briloner Straße 48 a\, Bestwig\, Nordrhein-Westfalen\, 59909\, Germany
ATTACH;FMTTYPE=image/webp:https://mm-tec-travel.eu/wp-content/uploads/2025/07/MM-Tec-Travel.eu-Mine-Cave.webp
END:VEVENT
END:VCALENDAR